


BEGIN:VCALENDAR
VERSION:2.0
PRODID:-//wp-events-plugin.com//7.2.3.1//EN
TZID:Europe/Zurich
X-WR-TIMEZONE:Europe/Zurich
BEGIN:VEVENT
UID:516@laendleverein.at
DTSTART;TZID=Europe/Zurich:20260423T000000
DTEND;TZID=Europe/Zurich:20260423T000000
DTSTAMP:20260225T152550Z
URL:https://www.laendleverein.at/events/wanderung-fraxern-hohe-kugel-emser
 -huette-schuttannen/
SUMMARY:Wanderung: Fraxern – Hohe Kugel – Emser Hütte – Schuttannen
DESCRIPTION:Im Wanderjahr 2026 bieten die Naturfreunde Dornbirn vier abwech
 slungsreiche Tageswanderungen an. Alle Touren sind zwischen 5 und 6 Stunde
 n Gehzeit und umfassen 500–800 Höhenmeter. Sie eignen sich für trittsi
 chere und konditionsstarke Wanderer.\nDie Wanderung startet in Fraxern u
 nd führt zunächst auf Forstwegen und Bergpfaden stetig bergauf. Nach gut
  zwei Stunden erreicht man die Hohe Kugel\, von der sich ein weiter Blick
  über das Rheintal\, den Bodensee und die umliegenden Berge bietet.\n&nbs
 p\;\nVom Gipfel geht es in einem angenehmen Abstieg zur Emser Hütte\, wo
  sich eine gemütliche Rast anbietet. Dort planen wir unsere nächsten Wan
 derungen für 2026.\n&nbsp\;\nAuf der Emser Hütte entscheiden wir dann ku
 rzfristig\, ob wir nach Schuttanen oder ins Ebnit laufen.\n&nbsp\;\nAusrü
 stung: Gute Schuhe\n&nbsp\;\nAnforderung: Trittsicherheit / Gehzeit 4-5 St
 unden\n8 Kilometer\, 800 hm.\n&nbsp\;\nBei Schlechtwetter oder zuviel Schn
 ee wird\nzeitgerecht ein neuer Termin bekanntgegeben.\n&nbsp\;\nTreffpunkt
 : Genauer Treffpunkt wird nach der\nAnmeldung bekanntgegeben.\n&nbsp\;\n 
 Anmeldung bis spätestens 18 April 2026\nan Ernst Passler dornbirn@naturfr
 eunde.at\n&nbsp\;
ATTACH;FMTTYPE=image/jpeg:https://www.laendleverein.at/wp-content/uploads/
 2026/02/dsc1044-fitwzewmjqsodawxq.jpg
CATEGORIES:Familie , Freizeit
LOCATION:Bezirk Dornbirn\, Bezirk Dornbirn\, Österreich
X-APPLE-STRUCTURED-LOCATION;VALUE=URI;X-ADDRESS=Bezirk Dornbirn\, Österrei
 ch;X-APPLE-RADIUS=100;X-TITLE=Bezirk Dornbirn:geo:0,0
END:VEVENT
BEGIN:VTIMEZONE
TZID:Europe/Zurich
X-LIC-LOCATION:Europe/Zurich
BEGIN:DAYLIGHT
DTSTART:20260329T030000
TZOFFSETFROM:+0100
TZOFFSETTO:+0200
TZNAME:CEST
END:DAYLIGHT
END:VTIMEZONE
END:VCALENDAR