


BEGIN:VCALENDAR
VERSION:2.0
PRODID:-//wp-events-plugin.com//7.2.3.1//EN
TZID:Europe/Zurich
X-WR-TIMEZONE:Europe/Zurich
BEGIN:VEVENT
UID:74@laendleverein.at
DTSTART;TZID=Europe/Zurich:20250818T093000
DTEND;TZID=Europe/Zurich:20250822T153000
DTSTAMP:20250415T142545Z
URL:https://www.laendleverein.at/events/sommer-kinder-tanz-camp/
SUMMARY:Sommer Kinder Tanz Camp
DESCRIPTION:Termin\nMontag 18. bis Freitag 22.08.2025\nDauer\nMinis   3 
 – 5 Jahre von   10:00 - 12:00 UhrKids     6 – 10 Jahre von   9:30 
 - 15:30 UhrTeens 11 – 14 Jahre von  9:30 - 15:30 Uhr\nTanzrichtungen\nM
 inis - kreativer KindertanzKids &amp\; Teens - ein Mix aus verschiedenen 
 TanzstilenJazz Dance\, Musical Dance\, Ballett und Hip Hop\nwas erwartet e
 uch:\n\nCoole Choreos &amp\; Tanzstile\ntolle Gemeinschaft &amp\; jede Men
 ge Spaß\nBetreuung &amp\; Verpflegung inklusive\nMenschen mit Beeinträch
 tigung - alle sind willkommen\nkeine Vorkenntnisse nötig - alle sind wil
 lkommen\nmit ausgebildeten TanzpädagogInnen\neine Abschlussshow im G3 Sti
 eglingen Dornbirn \n\nAbschlussveranstaltung für alle Gruppen\nFreitag\,
  22.08.25 von 11:00 - 12:00 Uhr
ATTACH;FMTTYPE=image/jpeg:https://www.laendleverein.at/wp-content/uploads/
 2025/03/signatur-tanzcamp-detailseite-02-kopie.jpeg
CATEGORIES:Familie , Freizeit,Sport , Outdoor
LOCATION:Bezirk Dornbirn\, Bezirk Dornbirn\, Österreich
X-APPLE-STRUCTURED-LOCATION;VALUE=URI;X-ADDRESS=Bezirk Dornbirn\, Österrei
 ch;X-APPLE-RADIUS=100;X-TITLE=Bezirk Dornbirn:geo:0,0
END:VEVENT
BEGIN:VTIMEZONE
TZID:Europe/Zurich
X-LIC-LOCATION:Europe/Zurich
BEGIN:DAYLIGHT
DTSTART:20250330T030000
TZOFFSETFROM:+0100
TZOFFSETTO:+0200
TZNAME:CEST
END:DAYLIGHT
END:VTIMEZONE
END:VCALENDAR