


BEGIN:VCALENDAR
VERSION:2.0
PRODID:-//wp-events-plugin.com//7.2.3.1//EN
TZID:Europe/Zurich
X-WR-TIMEZONE:Europe/Zurich
BEGIN:VEVENT
UID:535@laendleverein.at
DTSTART;TZID=Europe/Zurich:20260905T090000
DTEND;TZID=Europe/Zurich:20260905T120000
DTSTAMP:20260420T075213Z
URL:https://www.laendleverein.at/events/exkursion-vogelfreundliche-gehoelz
 e/
SUMMARY:Exkursion „Vogelfreundliche Gehölze“
DESCRIPTION:Viele insektenfressende Singvögel nehmen während des Herbstzu
 gs gerne Beeren als Nahrung auf. Im Biotop des Vereins „Die Drossel“ w
 urden deshalb geeignete beerentragende heimische Sträucher gepflanzt. Bei
  dieser Exkursion lernen Sie diese Gehölze kennen und erfahren\, welche V
 ogelarten von diesen profitieren. Sie erhalten Anregungen und Praxistipps\
 , wie Sie ihren eigenen Garten vogelfreundlich gestalten.\nLeitung: Alwin 
 Schönenberger\nTreffpunkt: 9.00 h\, Parkplatz Alter Rhein in der Forststr
 aße beim Gasthaus Am Rohr in Lustenau\nVeranstalter: | naturschutzbund |
  Vorarlberg und Ornithologischer Verein „Die Drossel“\nHausrotschwanz
  © Harry Mark  
ATTACH;FMTTYPE=image/jpeg:https://www.laendleverein.at/wp-content/uploads/
 2026/04/pa190369-hausrotschwanz-1-det-harrymark.jpg
CATEGORIES:Familie , Freizeit
LOCATION:Bezirk Dornbirn\, Bezirk Dornbirn\, Österreich
X-APPLE-STRUCTURED-LOCATION;VALUE=URI;X-ADDRESS=Bezirk Dornbirn\, Österrei
 ch;X-APPLE-RADIUS=100;X-TITLE=Bezirk Dornbirn:geo:0,0
END:VEVENT
BEGIN:VTIMEZONE
TZID:Europe/Zurich
X-LIC-LOCATION:Europe/Zurich
BEGIN:DAYLIGHT
DTSTART:20260329T030000
TZOFFSETFROM:+0100
TZOFFSETTO:+0200
TZNAME:CEST
END:DAYLIGHT
END:VTIMEZONE
END:VCALENDAR