


BEGIN:VCALENDAR
VERSION:2.0
PRODID:-//wp-events-plugin.com//7.2.3.1//EN
TZID:Europe/Zurich
X-WR-TIMEZONE:Europe/Zurich
BEGIN:VEVENT
UID:537@laendleverein.at
DTSTART;TZID=Europe/Zurich:20260525T100000
DTEND;TZID=Europe/Zurich:20260525T170000
DTSTAMP:20260421T190857Z
URL:https://www.laendleverein.at/events/bienenfest-bienenzuchtverein-hohen
 enms-5/
SUMMARY:Bienenfest Bienenzuchtverein Hohenenms
DESCRIPTION:Am Pfingstmontag\, dem 25.Mai 2026\, veranstaltet der Bienenzuc
 htverein Hohenems ab 10 Uhr beim Bienenhaus in Schuttannen (beim Schollasc
 hopf) erneut ein Bienenfest.\nDie Anfahrt ist mit dem Landbus\, Linie 175 
 mit Verstärkeren\, zur Haltestelle „Emsreute Schollaschopf“ (ab 9.33 
 Uhr immer um .33) möglich. \nAnreise via Karrenseilbahn mit kurzer Wande
 rung ca. 1h (3km\, 160hm berauf\, 30hm bergab) ebenfalls möglich. Der Weg
  ist ausgeschildert.\nDas Bienenfest bietet:\n\nInformationen über Honigb
 ienen\nInformationen über Bienen\nImkerei\nHochmoorführung Schollaschopf
 \nBienenquiz\nLagerfeuer und Stockbrot\n\nFür das leibliche Wohl ist geso
 rgt. Die „Mühlebacher Tanzelmusig“ wird bis ca. 13.30 Uhr den Tag mus
 ikalisch umrahmen.\nDie Veranstaltung findet bei jedem Wetter statt.\nWeit
 ere Infos hier verfügbar:\nBienenzuchtverein Hohenems – Willkommen in d
 er Welt von Fleiß und Honig\n&nbsp\;
CATEGORIES:Familie , Freizeit,Sonstiges
LOCATION:Bezirk Dornbirn\, Bezirk Dornbirn\, Österreich
X-APPLE-STRUCTURED-LOCATION;VALUE=URI;X-ADDRESS=Bezirk Dornbirn\, Österrei
 ch;X-APPLE-RADIUS=100;X-TITLE=Bezirk Dornbirn:geo:0,0
END:VEVENT
BEGIN:VTIMEZONE
TZID:Europe/Zurich
X-LIC-LOCATION:Europe/Zurich
BEGIN:DAYLIGHT
DTSTART:20260329T030000
TZOFFSETFROM:+0100
TZOFFSETTO:+0200
TZNAME:CEST
END:DAYLIGHT
END:VTIMEZONE
END:VCALENDAR